BEGIN:VCALENDAR
VERSION:2.0
PRODID:-//Great Sun Nation - ECPv6.15.20//NONSGML v1.0//EN
CALSCALE:GREGORIAN
METHOD:PUBLISH
X-WR-CALNAME:Great Sun Nation
X-ORIGINAL-URL:https://greatsunnation.com
X-WR-CALDESC:Events for Great Sun Nation
REFRESH-INTERVAL;VALUE=DURATION:PT1H
X-Robots-Tag:noindex
X-PUBLISHED-TTL:PT1H
BEGIN:VTIMEZONE
TZID:UTC
BEGIN:STANDARD
TZOFFSETFROM:+0000
TZOFFSETTO:+0000
TZNAME:UTC
DTSTART:20150101T000000
END:STANDARD
END:VTIMEZONE
BEGIN:VEVENT
DTSTART;TZID=UTC:20181109T080000
DTEND;TZID=UTC:20181111T170000
DTSTAMP:20260422T132936
CREATED:20180502T223636Z
LAST-MODIFIED:20180503T125842Z
UID:1064-1541750400-1541955600@greatsunnation.com
SUMMARY:Disney Fort Wilderness
DESCRIPTION:Join us a we travel to Fort Wilderness in Kissimmee\, FL to camp out in Mickey’s backyard.    Enjoy the beautiful campgrounds and many activities including bike riding\, horseback riding\, fishing\, boating\, or just hanging out by the pool.    If that is not enough\, you can take a boat to the Magic Kingdom.
URL:https://greatsunnation.com/event/disney-fort-wilderness/
LOCATION:Ft. Wilderness – Disney\, 4510 North Fort Wilderness Trail \, Lake Buena Vista\, 32830
ATTACH;FMTTYPE=image/jpeg:https://greatsunnation.com/wp-content/uploads/2016/04/Disneys_Fort_Wilderness_Resort_and_Campground_sign.jpg
END:VEVENT
BEGIN:VEVENT
DTSTART;TZID=UTC:20181012T080000
DTEND;TZID=UTC:20181014T170000
DTSTAMP:20260422T132936
CREATED:20180502T223545Z
LAST-MODIFIED:20180503T124637Z
UID:1061-1539331200-1539536400@greatsunnation.com
SUMMARY:Westgate River Ranch
DESCRIPTION:
URL:https://greatsunnation.com/event/westgate-river-ranch/
LOCATION:Westgate River Ranch
ATTACH;FMTTYPE=image/png:https://greatsunnation.com/wp-content/uploads/2018/05/2018-05-02_18-41-34.png
END:VEVENT
BEGIN:VEVENT
DTSTART;TZID=UTC:20180929T180000
DTEND;TZID=UTC:20180930T080000
DTSTAMP:20260422T132936
CREATED:20180315T011138Z
LAST-MODIFIED:20180906T012332Z
UID:1049-1538244000-1538294400@greatsunnation.com
SUMMARY:Frost Science Museum Sleepover
DESCRIPTION:We are excited to bring to you all a brand new experience. The Frost Science Museum that recently opened this year is allowing us to sleep over on September 29th.  The only caveat is that we have to sign up by March 15th. I know its early but if we don’t sign up now they will open it up to other groups and we have 250 spots to fill.  See the below link to sign up and details. Its an unbelievable experience and including is free tickets to come back at another time. Its $80 per person. \nSaturday\, September 29th \nRegistration Link\n http://tickets.frostscience.org/auxiliary/Reserve.aspx?p=26304\n \nFor additional details about the museum visit https://www.frostscience.org/\n \nHere is a SAMPLE schedule of their overnight program \nArrival (6:00 p.m. to 7:00 p.m.)\nDinner Served- Good Buffet\nSelect Exhibits Open\n7:30 p.m. Orientation\n8:00 p.m.\nHands-on Science Activities\nSelect Exhibits Open\n10:00 p.m. Planetarium Show\n10:40 p.m. Prep for Sleep\n11:30 p.m. Sleep\n6:00 a.m. Breakfast Served\n7:00 a.m.  Gift Store Opens\nDeparture (by 8:00 a.m.) \n 
URL:https://greatsunnation.com/event/frost-science-museum-sleepover/
LOCATION:FL
ATTACH;FMTTYPE=image/jpeg:https://greatsunnation.com/wp-content/uploads/2018/03/2018-03-14_21-10-55.jpg
ORGANIZER;CN="Great Sun Nation":MAILTO:info@greatsunnation.com
END:VEVENT
BEGIN:VEVENT
DTSTART;TZID=UTC:20180819T140000
DTEND;TZID=UTC:20180819T180000
DTSTAMP:20260422T132936
CREATED:20180709T150503Z
LAST-MODIFIED:20180709T150503Z
UID:1088-1534687200-1534701600@greatsunnation.com
SUMMARY:Camping Season Kick Off - Beach Party!!
DESCRIPTION:
URL:https://greatsunnation.com/event/camping-season-kick-off-beach-party/
LOCATION:Spanish River Park\, 3001 N State Road A1A\, Boca Raton\, FL\, 33431\, United States
ATTACH;FMTTYPE=image/png:https://greatsunnation.com/wp-content/uploads/2018/07/Beach-Party.png
ORGANIZER;CN="Great Sun Nation":MAILTO:info@greatsunnation.com
END:VEVENT
BEGIN:VEVENT
DTSTART;TZID=UTC:20180518T190000
DTEND;TZID=UTC:20180519T000000
DTSTAMP:20260422T132936
CREATED:20180502T223322Z
LAST-MODIFIED:20180502T223322Z
UID:1055-1526670000-1526688000@greatsunnation.com
SUMMARY:Xtreme Action Park
DESCRIPTION:Great Sun Nation members are invited to participate in an exclusive one night event at Xtreme Action Park in Fort Lauderdale.  Enjoy access to the fastest indoor Go Kart track and the newest attractions including Bowling\, XD Dark Ride\, Ropes Course\, Trampoline Park\, Roller Skating Rink and more!
URL:https://greatsunnation.com/event/xtreme-action-park-2/
LOCATION:Xtreme Action Park\, 5300 N Powerline Road\, Fort Lauderdale\, FL\, 33309\, United States
ATTACH;FMTTYPE=image/jpeg:https://greatsunnation.com/wp-content/uploads/2016/01/extreme.jpg
ORGANIZER;CN="Great Sun Nation":MAILTO:info@greatsunnation.com
END:VEVENT
BEGIN:VEVENT
DTSTART;VALUE=DATE:20180420
DTEND;VALUE=DATE:20180423
DTSTAMP:20260422T132936
CREATED:20180115T154800Z
LAST-MODIFIED:20180122T185100Z
UID:1011-1524182400-1524441599@greatsunnation.com
SUMMARY:Big Pine Key Fishing Lodge
DESCRIPTION:Join The Great Sun Nation for our final campout of the 2017-2018 camping season. We will be in the beautiful Florida Keys at the Big Pine Key Fishing Lodge at MM33. Enjoy the beautiful waters of the keys and relax as we watch the sun set. Bring your fishing poles and get ready for a relaxing time.
URL:https://greatsunnation.com/event/big-pine-key/
LOCATION:Big Pine Key Resort\, 33000 Overseas Hwy\, Big Pine Key\, FL\, 33043\, United States
ATTACH;FMTTYPE=image/png:https://greatsunnation.com/wp-content/uploads/2018/01/big-pine-key-fishing-lodge.png
ORGANIZER;CN="Great Sun Nation":MAILTO:info@greatsunnation.com
END:VEVENT
BEGIN:VEVENT
DTSTART;TZID=UTC:20180325T130000
DTEND;TZID=UTC:20180325T170000
DTSTAMP:20260422T132936
CREATED:20180205T211615Z
LAST-MODIFIED:20180205T211654Z
UID:1025-1521982800-1521997200@greatsunnation.com
SUMMARY:Spring Training Game - Cardinals vs Nationals
DESCRIPTION:Join the Great Sun Nation for its 1st ever spring training baseball game at the brand new Ballpark of the Palm Beaches. We will be sitting on a hill in the outfield. Bring a blanket and your glove to catch the home runs!
URL:https://greatsunnation.com/event/spring-training-cardinals-vs-nationals/
LOCATION:Ball Park of the Palm Beaches\, 5444 Haverhill Road\, West Palm Beach\, FL\, 33407\, United States
ATTACH;FMTTYPE=image/png:https://greatsunnation.com/wp-content/uploads/2018/02/BallParkPalmBeaches.png
ORGANIZER;CN="Great Sun Nation":MAILTO:info@greatsunnation.com
END:VEVENT
BEGIN:VEVENT
DTSTART;TZID=UTC:20180308T150000
DTEND;TZID=UTC:20180311T123000
DTSTAMP:20260422T132936
CREATED:20170525T203704Z
LAST-MODIFIED:20170525T203704Z
UID:971-1520521200-1520771400@greatsunnation.com
SUMMARY:Peace River Campout
DESCRIPTION:Join the Great Sun Nation in our hunt for shark teeth on the Peace River in Arcadia\, FL.  This is a primitive campground right on the banks of the Peace River.  Bring your ATV and dirt bikes to this campout.  The big event on Saturday is the canoe trip down the Peace River.  There are many fossilized shark teeth to be found in the river.    Saturday night is capped of with the Broken Arrow ceremony.  This is one campout not to be missed.
URL:https://greatsunnation.com/event/peace-river-campout-2/
LOCATION:Peace River\, 2998 NW Highway 70\, Arcadia\, FL\, 34266\, United States
ATTACH;FMTTYPE=image/jpeg:https://greatsunnation.com/wp-content/uploads/2016/01/29552583_rxhx.jpg
ORGANIZER;CN="Great Sun Nation":MAILTO:info@greatsunnation.com
END:VEVENT
BEGIN:VEVENT
DTSTART;TZID=UTC:20180209T150000
DTEND;TZID=UTC:20180211T110000
DTSTAMP:20260422T132936
CREATED:20170814T151138Z
LAST-MODIFIED:20170829T185346Z
UID:987-1518188400-1518346800@greatsunnation.com
SUMMARY:Forever Florida
DESCRIPTION:Great Sun Nation will have exclusive run of Camp Illahaw at Forever Florida. There is a “Low Ropes” course for all ages.   We’ll have archery\, critter racing and some other fun activities at the camp.   Saturday will feature a 2 hour Nature Ride.   Forever Florida will pick us up from camp and take us on cool open air Jeep busses to check out “untouched Florida”.   Campers 10 and up will have access to Zip Lines and Horseback Riding (a la carte).  \nEco-adventure park just a short walk from camp with the only zipline rollercoaster in the U.S.\, a quarter-mile-long racing zip line\, a 10-tower zipline tour\, and a 7-story leap that will help you find courage you didn’t know you had?\nRoam 4\,700 acres of Florida wilderness with nine different native ecosystems and endless opportunities to observe wildlife and learn about the natural world.
URL:https://greatsunnation.com/event/caloosahatchee-regional-park/
LOCATION:Forever Florida\, 50 Broussard Rd\, Saint Cloud\, FL\, 34773  \, United States
ATTACH;FMTTYPE=image/png:https://greatsunnation.com/wp-content/uploads/2017/08/Forever-Florida.png
ORGANIZER;CN="Great Sun Nation":MAILTO:info@greatsunnation.com
END:VEVENT
BEGIN:VEVENT
DTSTART;TZID=UTC:20180112T160000
DTEND;TZID=UTC:20180114T120000
DTSTAMP:20260422T132936
CREATED:20170726T193401Z
LAST-MODIFIED:20170726T193401Z
UID:983-1515772800-1515931200@greatsunnation.com
SUMMARY:Circle F 2018
DESCRIPTION:Our biggest campout of the year!    Tons of activities from war games to horse back rides to zip lining.
URL:https://greatsunnation.com/event/circle-f-2018/
LOCATION:Circle F Dude Ranch\, 5301 Dude Ranch Rd \, Lake Wales\, 33898
ATTACH;FMTTYPE=image/png:https://greatsunnation.com/wp-content/uploads/2016/02/gsn_circlef-3.png
ORGANIZER;CN="Great Sun Nation":MAILTO:info@greatsunnation.com
END:VEVENT
BEGIN:VEVENT
DTSTART;VALUE=DATE:20171206
DTEND;VALUE=DATE:20171207
DTSTAMP:20260422T132936
CREATED:20170425T005958Z
LAST-MODIFIED:20170425T005958Z
UID:953-1512518400-1512604799@greatsunnation.com
SUMMARY:Boca Raton Holiday Parade
DESCRIPTION:The Great Sun Nation will be participating for the 3rd year in a row in the Boca Raton Holiday Parade.    March with us as we show the City of Boca – that we are the best group to be part of in Boca.    Our float will be bigger an better than last years!    Join us a we march down the streets of Boca.
URL:https://greatsunnation.com/event/boca-raton-holiday-parade-2/
LOCATION:Boca Raton Holiday Parade\, Federal Highway and SE 8th Street\, Boca Raton\, FL\, United States
ATTACH;FMTTYPE=image/jpeg:https://greatsunnation.com/wp-content/uploads/2016/12/IMG_1795.jpg
ORGANIZER;CN="Great Sun Nation":MAILTO:info@greatsunnation.com
END:VEVENT
BEGIN:VEVENT
DTSTART;VALUE=DATE:20171110
DTEND;VALUE=DATE:20171113
DTSTAMP:20260422T132936
CREATED:20170425T005646Z
LAST-MODIFIED:20170425T005659Z
UID:950-1510272000-1510531199@greatsunnation.com
SUMMARY:Fort Wilderness
DESCRIPTION:Join us a we travel to Fort Wilderness in Kissimmee\, FL to camp out in Mickey’s backyard.    Enjoy the beautiful campgrounds and many activities including bike riding\, horseback riding\, fishing\, boating\, or just hanging out by the pool.    If that is not enough\, you can take a boat to the Magic Kingdom.
URL:https://greatsunnation.com/event/fort-wilderness-2017/
LOCATION:Ft. Wilderness – Disney\, 4510 North Fort Wilderness Trail \, Lake Buena Vista\, 32830
ATTACH;FMTTYPE=image/jpeg:https://greatsunnation.com/wp-content/uploads/2016/04/Disneys_Fort_Wilderness_Resort_and_Campground_sign.jpg
ORGANIZER;CN="Great Sun Nation":MAILTO:info@greatsunnation.com
END:VEVENT
BEGIN:VEVENT
DTSTART;TZID=UTC:20170923T170000
DTEND;TZID=UTC:20170924T100000
DTSTAMP:20260422T132936
CREATED:20170425T004059Z
LAST-MODIFIED:20170822T171047Z
UID:939-1506186000-1506247200@greatsunnation.com
SUMMARY:Ft. Lauderdale Museum Overnight
DESCRIPTION:Join us for a Night at the Museum.  We will be spending the night at the Ft. Lauderdale Museum of Science and Discovery.   There will be a pizza dinner followed by hands on classes and access to all of the museum’s attractions.
URL:https://greatsunnation.com/event/ft-lauderdale-museum-overnight-2/
LOCATION:Museum of Discovery & Science\, 401 SW 2nd St\, Fort Lauderdale\, FL\, 33312\, United States
ATTACH;FMTTYPE=image/jpeg:https://greatsunnation.com/wp-content/uploads/2016/04/DSCmuseum-frontsign.jpg
ORGANIZER;CN="Great Sun Nation":MAILTO:info@greatsunnation.com
END:VEVENT
BEGIN:VEVENT
DTSTART;TZID=UTC:20170819T160000
DTEND;TZID=UTC:20170819T183000
DTSTAMP:20260422T132936
CREATED:20170425T002541Z
LAST-MODIFIED:20170606T144439Z
UID:936-1503158400-1503167400@greatsunnation.com
SUMMARY:Welcome Back Ice Skating Party
DESCRIPTION:Join us for our annual kickoff to the camping season.   Get out of the heat and join us for an Ice Skating Party from 4-7pm on Saturday\, Aug 2oth.   Ice Skates and food is included in the price.   Don’t worry if you don’t know how to skate.     Bring a friend an introduce them to the Great Sun Nation.      Incredible Ice – 3299 Sportsplex Drive\, Coral Springs\, FL 33065
URL:https://greatsunnation.com/event/welcome-back-ice-skating-party-2017/
LOCATION:Incredible Ice\, 3299 Sportsplex Drive\, Coral Springs\, FL\, 33065\, United States
ATTACH;FMTTYPE=image/jpeg:https://greatsunnation.com/wp-content/uploads/2016/08/IMG_1526.jpg
ORGANIZER;CN="Great Sun Nation":MAILTO:info@greatsunnation.com
END:VEVENT
BEGIN:VEVENT
DTSTART;VALUE=DATE:20170806
DTEND;VALUE=DATE:20170807
DTSTAMP:20260422T132936
CREATED:20170602T144637Z
LAST-MODIFIED:20170602T144637Z
UID:959-1501977600-1502063999@greatsunnation.com
SUMMARY:Monster Jam
DESCRIPTION:• Come Join the Great Sun Nation for its 1st ever Monster Truck Jam at the BBC Center in Sunrise. Sunday August 6th 10am.\n• Doors open for Pit Pass at 10:30 to noon get autographs and meet the Drivers – Monster Jam starts 1pm\n• Cost is $30/pp. Includes Pit Pass. All sales are final everyone is welcome so reach out to friends\, family or possible recruits\n• Tickets will be disbursed by Great Sun Nation to keep tribes and kids together \n*** This is a Monster Truck Indoor Event – Ear Protection is Highly Recommended *** \nAny Questions or Comments forward to : Bobby Tabano (561-702-7091) or Rich Kirby (954-296-8207)
URL:https://greatsunnation.com/event/monster-jam/
LOCATION:BB&T Center\, 2555 NW 136th Ave \, Sunrise\, FL\,  33323\, United States
ATTACH;FMTTYPE=image/jpeg:https://greatsunnation.com/wp-content/uploads/2017/05/Monster-Jam.jpg
ORGANIZER;CN="Great Sun Nation":MAILTO:info@greatsunnation.com
END:VEVENT
BEGIN:VEVENT
DTSTART;TZID=UTC:20170519T190000
DTEND;TZID=UTC:20170520T010000
DTSTAMP:20260422T132936
CREATED:20170329T153015Z
LAST-MODIFIED:20170425T010340Z
UID:916-1495220400-1495242000@greatsunnation.com
SUMMARY:Xtreme Action Park
DESCRIPTION:South Florida’s Premier Indoor Family Entertainment Venue with something for everyone in your family or group. Choose your fun by age and see what we have for you!
URL:https://greatsunnation.com/event/xtreme-action-park/
LOCATION:Xtreme Action Park\, 5300 N Powerline Road\, Fort Lauderdale\, FL\, 33309\, United States
ATTACH;FMTTYPE=image/jpeg:https://greatsunnation.com/wp-content/uploads/2016/06/IMG_1374.jpg
ORGANIZER;CN="Great Sun Nation":MAILTO:info@greatsunnation.com
END:VEVENT
BEGIN:VEVENT
DTSTART;TZID=UTC:20170421T080000
DTEND;TZID=UTC:20170423T170000
DTSTAMP:20260422T132936
CREATED:20160621T002143Z
LAST-MODIFIED:20160703T184721Z
UID:759-1492761600-1492966800@greatsunnation.com
SUMMARY:Fiesta Key Campout
DESCRIPTION:Join The Great Sun Nation for our final campout of the 2016-2017 camping season.    We will be in the beautiful Florida Key at Fiesta Key campgrounds at MM70.    Enjoy the beautiful waters of the keys and relax as we watch the sun set.    Bring your fishing poles and get ready for a relaxing time.
URL:https://greatsunnation.com/event/fiesta-key-campout-2/
LOCATION:FL
ATTACH;FMTTYPE=image/jpeg:https://greatsunnation.com/wp-content/uploads/2016/04/IMG_1241.jpg
END:VEVENT
BEGIN:VEVENT
DTSTART;TZID=UTC:20170326T130500
DTEND;TZID=UTC:20170326T160000
DTSTAMP:20260422T132936
CREATED:20170228T141501Z
LAST-MODIFIED:20170228T141501Z
UID:869-1490533500-1490544000@greatsunnation.com
SUMMARY:Spring Training - Nationals vs Astros
DESCRIPTION:Join the Great Sun Nation for its 1st  ever spring training baseball game at the brand new Ballpark of the Palm Beaches.   We will be sitting on a hill in the outfield.   Bring a blanket and your glove to catch the home runs!
URL:https://greatsunnation.com/event/spring-training-nationals-vs-astros/
LOCATION:FL
ATTACH;FMTTYPE=image/png:https://greatsunnation.com/wp-content/uploads/2017/02/Baseball-game.png
END:VEVENT
BEGIN:VEVENT
DTSTART;TZID=UTC:20170317T080000
DTEND;TZID=UTC:20170319T170000
DTSTAMP:20260422T132936
CREATED:20160621T002928Z
LAST-MODIFIED:20160621T002928Z
UID:760-1489737600-1489942800@greatsunnation.com
SUMMARY:Sunshine State Pow Wow
DESCRIPTION:Come to the largest campout in Florida.    Join the tribes from the Native Sons and Daughters (Great Sun Nation\, Timucuan (Jax)\, Eola (Orlando)\, Tocobaga (Tampa))\, and YMCA Adventure Guides from around the state as we converge on Westgate River Ranch.   There will be over 1000 campers out there.    There will be ton of things to do\, including Native American dances\, Wild animal shows\, crafts\, horseback riding\, air boats and lots more.
URL:https://greatsunnation.com/event/sunshine-state-pow-wow/
LOCATION:FL
ATTACH;FMTTYPE=image/jpeg:https://greatsunnation.com/wp-content/uploads/2016/06/13458691_1709949769256088_8050480202729287366_o.jpg
END:VEVENT
BEGIN:VEVENT
DTSTART;TZID=UTC:20170310T150000
DTEND;TZID=UTC:20170312T120000
DTSTAMP:20260422T132936
CREATED:20160602T133511Z
LAST-MODIFIED:20160707T003608Z
UID:743-1489158000-1489320000@greatsunnation.com
SUMMARY:Peace River Campout
DESCRIPTION:Join the Great Sun Nation in our hunt for shark teeth on the Peace River in Arcadia\, FL.   This is a primitive campground right on the banks of the Peace River.    Bring your ATV and dirt bikes to this campout.   The big event on Saturday is the canoe trip down the Peace River.   There are many fossilized shark teeth to be found in the river.    Saturday night is capped of with the Broken Arrow ceremony.     This is one campout not to be missed.
URL:https://greatsunnation.com/event/peace-river-campout/
LOCATION:FL
ATTACH;FMTTYPE=image/jpeg:https://greatsunnation.com/wp-content/uploads/2016/01/29526409_h3ka.jpg
END:VEVENT
BEGIN:VEVENT
DTSTART;TZID=UTC:20170210T130000
DTEND;TZID=UTC:20170212T130000
DTSTAMP:20260422T132936
CREATED:20160425T235932Z
LAST-MODIFIED:20160602T132025Z
UID:703-1486731600-1486904400@greatsunnation.com
SUMMARY:Caloosahatchee Park Campout
DESCRIPTION:This will be our first ever campout in Ft. Meyers!  This park features 768 acres of pine flatwoods\, scrub oak\, cypress swamps and oak hammocks. Crossing through them\, you’ll find over 20 miles of hiking\, mountain biking and equestrian trails. The north side of the park is designated for mountain biking and horseback riding. The south side of the park has hiking trails\, fishing pier\, a floating dock and the primitive campground. Primitive camping sites for families and groups are available\, along with equestrian sites for people with horses. Kayaking and fishing are available along the banks of the Caloosahatchee River.
URL:https://greatsunnation.com/event/highland-hammocks-campout/
LOCATION:FL
ATTACH;FMTTYPE=image/jpeg:https://greatsunnation.com/wp-content/uploads/2016/04/caloosahatchee_regional_park_wm.jpg
END:VEVENT
BEGIN:VEVENT
DTSTART;TZID=UTC:20170113T130000
DTEND;TZID=UTC:20170115T130000
DTSTAMP:20260422T132936
CREATED:20160426T000150Z
LAST-MODIFIED:20160601T005035Z
UID:704-1484312400-1484485200@greatsunnation.com
SUMMARY:Circle F 2017
DESCRIPTION:Our biggest campout of the year!    Tons of activities from war games to horse back rides to zip lining.   More details to come!
URL:https://greatsunnation.com/event/circle-f-2017/
LOCATION:FL
ATTACH;FMTTYPE=image/jpeg:https://greatsunnation.com/wp-content/uploads/2016/04/Alpine-Tower.jpg
END:VEVENT
BEGIN:VEVENT
DTSTART;TZID=UTC:20161207T190000
DTEND;TZID=UTC:20161207T210000
DTSTAMP:20260422T132936
CREATED:20160707T004721Z
LAST-MODIFIED:20160707T004832Z
UID:768-1481137200-1481144400@greatsunnation.com
SUMMARY:Boca Raton Holiday Parade
DESCRIPTION:The Great Sun Nation will be participating for the 3rd year in a row in the Boca Raton Holiday Parade.    March with us as we show the City of Boca – that we are the best group to be part of in Boca.    Our float will be bigger an better than last years!    Join us a we march down the streets of Boca.
URL:https://greatsunnation.com/event/boca-raton-holiday-parade/
LOCATION:FL
ATTACH;FMTTYPE=image/jpeg:https://greatsunnation.com/wp-content/uploads/2016/07/holiday-parade-banner.jpg
END:VEVENT
BEGIN:VEVENT
DTSTART;TZID=UTC:20161111T130000
DTEND;TZID=UTC:20161113T130000
DTSTAMP:20260422T132936
CREATED:20160425T235407Z
LAST-MODIFIED:20160601T004902Z
UID:702-1478869200-1479042000@greatsunnation.com
SUMMARY:Fort Wilderness
DESCRIPTION:Join us a we travel to Fort Wilderness in Kissimmee\, FL to camp out in Mickey’s backyard.    Enjoy the beautiful campgrounds and many activities including bike riding\, horseback riding\, fishing\, boating\, or just hanging out by the pool.    If that is not enough\, you can take a boat to the Magic Kingdom
URL:https://greatsunnation.com/event/fort-wilderness/
LOCATION:FL
ATTACH;FMTTYPE=image/jpeg:https://greatsunnation.com/wp-content/uploads/2016/04/Disneys_Fort_Wilderness_Resort_and_Campground_sign.jpg
END:VEVENT
BEGIN:VEVENT
DTSTART;TZID=UTC:20161027T080000
DTEND;TZID=UTC:20161029T170000
DTSTAMP:20260422T132936
CREATED:20160915T124602Z
LAST-MODIFIED:20160915T124622Z
UID:816-1477555200-1477760400@greatsunnation.com
SUMMARY:Shriek Week at Sugar Sand Park
DESCRIPTION:This year the Great Sun Nation will be hosting a booth at the Shriek Week – Trick or Treat Trail.    Bring your kids out for a great Halloween experience.   We will be hosting booth on Thursday\, Friday and Saturday night.    You will be assigned by tribe as to the night you will be hosting.   Make sure you wear your vests and headdresses.   This is a recruiting event.   We want to spread the word about our great organization and get some new families. \nhttp://www.sugarsandpark.org/shriek-week
URL:https://greatsunnation.com/event/shriek-week-at-sugar-sand-park/
LOCATION:FL
ATTACH;FMTTYPE=image/jpeg:https://greatsunnation.com/wp-content/uploads/2016/09/Shriek-Week-2016.jpg
END:VEVENT
BEGIN:VEVENT
DTSTART;TZID=UTC:20161021T130000
DTEND;TZID=UTC:20161023T130000
DTSTAMP:20260422T132936
CREATED:20160406T000059Z
LAST-MODIFIED:20160601T004431Z
UID:691-1477054800-1477227600@greatsunnation.com
SUMMARY:Blue Springs Campout
DESCRIPTION:Join us for the 1st campout of the year at the beautiful Blue Spring State Park. \nBlue Spring State Park covers more than 2\,600 acres\, including the largest spring on the St. John’s River. Blue Spring is a designated Manatee Refuge and the winter home to a growing population of West Indian Manatees. During manatee season\, which approximately runs from mid-November through March\, several hundred manatee can be viewed atop the spring’s overlooks. The spring and spring run are closed to all water activity while manatees are present during this time.  Swimming or diving with manatees is not permitted; this rule is strictly enforced. \nThe spring´s crystal clear\, 73-degree water can be enjoyed by swimmers\, snorkelers\, and certified scuba divers with a partner during our designated swimming season. Fishing\, canoeing and boating are also enjoyed along the St. John’s River. \nhttps://www.floridastateparks.org/park/Blue-Spring
URL:https://greatsunnation.com/event/blue-springs-campout/
LOCATION:FL
ATTACH;FMTTYPE=image/jpeg:https://greatsunnation.com/wp-content/uploads/2016/04/Madison-Blue-Spring_010_Visitors-enjoying-the-spring.jpg
END:VEVENT
BEGIN:VEVENT
DTSTART;TZID=UTC:20160910T180000
DTEND;TZID=UTC:20160911T070000
DTSTAMP:20260422T132936
CREATED:20160405T235400Z
LAST-MODIFIED:20160601T004305Z
UID:689-1473530400-1473577200@greatsunnation.com
SUMMARY:Ft. Lauderdale Museum overnight
DESCRIPTION:Join us for a Night at the Museum.  We will be spending the night at the Ft. Lauderdale Museum of Science and Discovery.   There will be a pizza dinner followed by hands on classes and access to all of the museum’s attractions.
URL:https://greatsunnation.com/event/ft-lauderdale-museum-overnight/
LOCATION:FL
ATTACH;FMTTYPE=image/jpeg:https://greatsunnation.com/wp-content/uploads/2016/04/DSCmuseum-frontsign.jpg
END:VEVENT
BEGIN:VEVENT
DTSTART;TZID=UTC:20160820T160000
DTEND;TZID=UTC:20160820T190000
DTSTAMP:20260422T132936
CREATED:20160405T235616Z
LAST-MODIFIED:20160809T130930Z
UID:690-1471708800-1471719600@greatsunnation.com
SUMMARY:Camping Kickoff - Ice Skating Party
DESCRIPTION:Join us for our annual kickoff to the camping season.   Get out of the heat and join us for an Ice Skating Party from 4-7pm on Saturday\, Aug 2oth.   Ice Skates and food is included in the price.   Don’t worry if you don’t know how to skate.     Bring a friend an introduce them to the Great Sun Nation.      Incredible Ice – 3299 Sportsplex Drive\, Coral Springs\, FL 33065
URL:https://greatsunnation.com/event/annual-waterpark-day/
LOCATION:FL
ATTACH;FMTTYPE=image/jpeg:https://greatsunnation.com/wp-content/uploads/2016/04/Panther-Iceden1.jpg
END:VEVENT
BEGIN:VEVENT
DTSTART;TZID=UTC:20160520T190000
DTEND;TZID=UTC:20160521T070000
DTSTAMP:20260422T132936
CREATED:20160102T163016Z
LAST-MODIFIED:20160405T235055Z
UID:546-1463770800-1463814000@greatsunnation.com
SUMMARY:Sleepover at Xtreme Action Park
DESCRIPTION:South Florida’s Premier Indoor Family Entertainment Venue with something for everyone in your family or group. Choose your fun by age and see what we have for you!
URL:https://greatsunnation.com/event/sleepover-at-xtreme-action-park/
LOCATION:Xtreme Action Park\, 5300 N Powerline Road\, Fort Lauderdale\, FL\, 33309\, United States
ATTACH;FMTTYPE=image/jpeg:https://greatsunnation.com/wp-content/uploads/2016/01/extreme.jpg
ORGANIZER;CN="Great Sun Nation":MAILTO:info@greatsunnation.com
END:VEVENT
BEGIN:VEVENT
DTSTART;VALUE=DATE:20160507
DTEND;VALUE=DATE:20160508
DTSTAMP:20260422T132936
CREATED:20160102T162500Z
LAST-MODIFIED:20160102T164206Z
UID:545-1462579200-1462665599@greatsunnation.com
SUMMARY:Alex’s Lemonade Stand
DESCRIPTION:Alex’s Lemonade Stand Foundation\nCuring childhood cancer\, one cup at a time \nOur mission is to raise money and awareness of childhood cancer causes\, primarily for research into new treatments and cures\, and to encourage and empower others\, especially children\, to get involved and make a difference for children with cancer.
URL:https://greatsunnation.com/event/alexs-lemonade-stand/
LOCATION:FL
ATTACH;FMTTYPE=image/jpeg:https://greatsunnation.com/wp-content/uploads/2016/01/alex_lemonade.jpeg
ORGANIZER;CN="Great Sun Nation":MAILTO:info@greatsunnation.com
END:VEVENT
END:VCALENDAR