BEGIN:VCALENDAR
VERSION:2.0
PRODID:-//Great Sun Nation - ECPv6.15.20//NONSGML v1.0//EN
CALSCALE:GREGORIAN
METHOD:PUBLISH
X-WR-CALNAME:Great Sun Nation
X-ORIGINAL-URL:https://greatsunnation.com
X-WR-CALDESC:Events for Great Sun Nation
REFRESH-INTERVAL;VALUE=DURATION:PT1H
X-Robots-Tag:noindex
X-PUBLISHED-TTL:PT1H
BEGIN:VTIMEZONE
TZID:UTC
BEGIN:STANDARD
TZOFFSETFROM:+0000
TZOFFSETTO:+0000
TZNAME:UTC
DTSTART:20170101T000000
END:STANDARD
END:VTIMEZONE
BEGIN:VEVENT
DTSTART;TZID=UTC:20210305T160000
DTEND;TZID=UTC:20210307T110000
DTSTAMP:20260420T010906
CREATED:20210118T152230Z
LAST-MODIFIED:20210118T152230Z
UID:1234-1614960000-1615114800@greatsunnation.com
SUMMARY:Peace River
DESCRIPTION:Join the Great Sun Nation in our hunt for shark teeth on the Peace River in Arcadia\, FL. This is a primitive campground right on the banks of the Peace River. Bring your ATV and dirt bikes to this campout. The big event on Saturday is the canoe trip down the Peace River. There are many fossilized shark teeth to be found in the river.    Saturday night is capped of with the Broken Arrow ceremony. This is one campout not to be missed.
URL:https://greatsunnation.com/event/peace-river-3/
LOCATION:Peace River\, 2998 NW Highway 70\, Arcadia\, FL\, 34266\, United States
ATTACH;FMTTYPE=image/png:https://greatsunnation.com/wp-content/uploads/2016/02/gsn_circlef-3.png
ORGANIZER;CN="Great Sun Nation":MAILTO:info@greatsunnation.com
END:VEVENT
BEGIN:VEVENT
DTSTART;TZID=UTC:20210212T150000
DTEND;TZID=UTC:20210214T110000
DTSTAMP:20260420T010906
CREATED:20200927T153416Z
LAST-MODIFIED:20201115T225803Z
UID:1226-1613142000-1613300400@greatsunnation.com
SUMMARY:Westgate River Ranch & Rodeo
DESCRIPTION:An authentic Florida dude ranch nestled in one of the few untouched pieces of Florida wilderness\, Westgate River Ranch Resort &amp; Rodeo lies just one hour south of Orlando and features a variety of Florida cowboy-themed accommodations and activities.
URL:https://greatsunnation.com/event/westgate-river-ranch-rodeo/
ATTACH;FMTTYPE=image/png:https://greatsunnation.com/wp-content/uploads/2019/04/Westgate-River-Ranch-2019-07-24_7-08-12.png
END:VEVENT
BEGIN:VEVENT
DTSTART;TZID=UTC:20210115T150000
DTEND;TZID=UTC:20210117T110000
DTSTAMP:20260420T010906
CREATED:20200603T022137Z
LAST-MODIFIED:20200603T022154Z
UID:1201-1610722800-1610881200@greatsunnation.com
SUMMARY:Circle F 2021
DESCRIPTION:Join us for our biggest event of the year\, Circle F dude ranch.
URL:https://greatsunnation.com/event/1201/
LOCATION:Circle F Dude Ranch\, 5301 Dude Ranch Rd \, Lake Wales\, 33898
ATTACH;FMTTYPE=image/jpeg:https://greatsunnation.com/wp-content/uploads/2016/06/Circle-F-Teepee.jpeg
ORGANIZER;CN="Great Sun Nation":MAILTO:info@greatsunnation.com
END:VEVENT
BEGIN:VEVENT
DTSTART;VALUE=DATE:20201211
DTEND;VALUE=DATE:20201212
DTSTAMP:20260420T010906
CREATED:20200603T021920Z
LAST-MODIFIED:20200603T021920Z
UID:1199-1607644800-1607731199@greatsunnation.com
SUMMARY:Boca Raton Holiday Parade
DESCRIPTION:The Great Sun Nation will be participating in the Boca Raton Holiday Parade.    March with us as we show the City of Boca – that we are the best group to be part of in Boca.    Our float will be bigger an better than last years!    Join us a we march down the streets of Boca.
URL:https://greatsunnation.com/event/boca-raton-holiday-parade-4/
LOCATION:Boca Raton Holiday Parade\, Federal Highway and SE 8th Street\, Boca Raton\, FL\, United States
ATTACH;FMTTYPE=image/jpeg:https://greatsunnation.com/wp-content/uploads/2018/01/IMG_1167.jpg
ORGANIZER;CN="Great Sun Nation":MAILTO:info@greatsunnation.com
END:VEVENT
BEGIN:VEVENT
DTSTART;TZID=UTC:20201023T150000
DTEND;TZID=UTC:20201025T110000
DTSTAMP:20260420T010906
CREATED:20200603T021205Z
LAST-MODIFIED:20200603T021205Z
UID:1193-1603465200-1603623600@greatsunnation.com
SUMMARY:Fisheating Creek Outpost
DESCRIPTION:Fisheating Creek Outpost offers camping\, paddling\, fishing and hiking along one of the most pristine creeks in Florida. We’re based near the small town of Palmdale\, just west of Lake Okeechobee and north of the Everglades.
URL:https://greatsunnation.com/event/fisheating-creek-outpost-2/
LOCATION:Fisheating Creek Outpost\, 7555 US Hwy 27 North\, Palmdale\, FL\, 33944\, United States
ATTACH;FMTTYPE=image/png:https://greatsunnation.com/wp-content/uploads/2019/09/fisheatingcreek.png
ORGANIZER;CN="Great Sun Nation":MAILTO:info@greatsunnation.com
END:VEVENT
BEGIN:VEVENT
DTSTART;TZID=UTC:20200826T110000
DTEND;TZID=UTC:20200826T150000
DTSTAMP:20260420T010906
CREATED:20200603T020412Z
LAST-MODIFIED:20200825T013506Z
UID:1186-1598439600-1598454000@greatsunnation.com
SUMMARY:Pool Party - 2020/2021 Camping Season Kickoff
DESCRIPTION:
URL:https://greatsunnation.com/event/pool-party-camping-season-kickoff/
ATTACH;FMTTYPE=image/jpeg:https://greatsunnation.com/wp-content/uploads/2020/06/PoolParty.jpg
ORGANIZER;CN="Great Sun Nation":MAILTO:info@greatsunnation.com
END:VEVENT
BEGIN:VEVENT
DTSTART;TZID=UTC:20200417T150000
DTEND;TZID=UTC:20200419T110000
DTSTAMP:20260420T010906
CREATED:20190415T154343Z
LAST-MODIFIED:20190724T112552Z
UID:1149-1587135600-1587294000@greatsunnation.com
SUMMARY:Big Pine Key Fishing Lodge
DESCRIPTION:Located just a short drive past Fiesta Key sits Big Pine Key Fishing Lodge\, which was actually very close to where Irma made landfall. We were fortunate to have been able to secure campsites right on the water and the views did not disappoint! Big Pine Key is also home to the National Key Deer refuge and the campground had a constant flow of Key Deer visitors. Like most trips to the Keys there were endless possibilities to keep everyone busy and this years activities included Stand up Paddle boarding\, kayaking\, fishing\, snorkeling and the always fun boat excursion to explore the open waters!! Our Saturday activities concluded with the campground hosting s’mores’ by the campfire which was a nice surprise. Another terrific trip to the Keys\, very much looking forward to the 2019 trip which is scheduled for April 26th – 28th\, so save the date as you don’t want to miss this one
URL:https://greatsunnation.com/event/keys-camp-out/
ATTACH;FMTTYPE=image/png:https://greatsunnation.com/wp-content/uploads/2018/05/BigPineKey.png
ORGANIZER;CN="Great Sun Nation":MAILTO:info@greatsunnation.com
END:VEVENT
BEGIN:VEVENT
DTSTART;TZID=UTC:20200319T080000
DTEND;TZID=UTC:20200322T170000
DTSTAMP:20260420T010906
CREATED:20190724T111623Z
LAST-MODIFIED:20190724T112305Z
UID:1156-1584604800-1584896400@greatsunnation.com
SUMMARY:Sunshine State Pow Wow
DESCRIPTION:This event will be held at Wickham Park
URL:https://greatsunnation.com/event/sunshine-state-pow-wow-2/
LOCATION:Wickham Park\, 2500 Parkway Dr\, Melbourne\, FL\, 32935\, United States
ATTACH;FMTTYPE=image/jpeg:https://greatsunnation.com/wp-content/uploads/2019/07/Wickham-Park-n20171214_151355-e1513290571796.jpg
ORGANIZER;CN="Great Sun Nation":MAILTO:info@greatsunnation.com
END:VEVENT
BEGIN:VEVENT
DTSTART;TZID=UTC:20200313T110000
DTEND;TZID=UTC:20200315T110000
DTSTAMP:20260420T010906
CREATED:20190415T154251Z
LAST-MODIFIED:20190415T154251Z
UID:1147-1584097200-1584270000@greatsunnation.com
SUMMARY:Peace River
DESCRIPTION:Join the Great Sun Nation in our hunt for shark teeth on the Peace River in Arcadia\, FL. This is a primitive campground right on the banks of the Peace River. Bring your ATV and dirt bikes to this campout. The big event on Saturday is the canoe trip down the Peace River. There are many fossilized shark teeth to be found in the river.    Saturday night is capped of with the Broken Arrow ceremony. This is one campout not to be missed.
URL:https://greatsunnation.com/event/peace-river-2/
LOCATION:Peace River\, 2998 NW Highway 70\, Arcadia\, FL\, 34266\, United States
ATTACH;FMTTYPE=image/jpeg:https://greatsunnation.com/wp-content/uploads/2016/01/29552583_rxhx.jpg
ORGANIZER;CN="Great Sun Nation":MAILTO:info@greatsunnation.com
END:VEVENT
BEGIN:VEVENT
DTSTART;TZID=UTC:20200207T150000
DTEND;TZID=UTC:20200209T110000
DTSTAMP:20260420T010906
CREATED:20190415T154126Z
LAST-MODIFIED:20190724T111125Z
UID:1144-1581087600-1581246000@greatsunnation.com
SUMMARY:Westgate River Ranch Resort & Rodeo
DESCRIPTION:An authentic Florida dude ranch nestled in one of the few untouched pieces of Florida wilderness\, Westgate River Ranch Resort &amp; Rodeo lies just one hour south of Orlando and features a variety of Florida cowboy-themed accommodations and activities.
URL:https://greatsunnation.com/event/camp-out-tbd/
ATTACH;FMTTYPE=image/png:https://greatsunnation.com/wp-content/uploads/2019/04/Westgate-River-Ranch-2019-07-24_7-08-12.png
ORGANIZER;CN="Great Sun Nation":MAILTO:info@greatsunnation.com
END:VEVENT
BEGIN:VEVENT
DTSTART;TZID=UTC:20200110T150000
DTEND;TZID=UTC:20200112T110000
DTSTAMP:20260420T010906
CREATED:20190415T153933Z
LAST-MODIFIED:20190415T153933Z
UID:1142-1578668400-1578826800@greatsunnation.com
SUMMARY:Circle F 2020
DESCRIPTION:Join us for our biggest event of the year\, Circle F dude ranch scheduled for January 10th – 12th.
URL:https://greatsunnation.com/event/circle-f-2020/
LOCATION:Circle F Dude Ranch\, 5301 Dude Ranch Rd \, Lake Wales\, 33898
ATTACH;FMTTYPE=image/jpeg:https://greatsunnation.com/wp-content/uploads/2016/06/Circle-F-Teepee.jpeg
ORGANIZER;CN="Great Sun Nation":MAILTO:info@greatsunnation.com
END:VEVENT
BEGIN:VEVENT
DTSTART;VALUE=DATE:20191205
DTEND;VALUE=DATE:20191206
DTSTAMP:20260420T010906
CREATED:20190415T153205Z
LAST-MODIFIED:20190415T153205Z
UID:1140-1575504000-1575590399@greatsunnation.com
SUMMARY:Boca Raton Holiday Parade
DESCRIPTION:The Great Sun Nation will be participating in the Boca Raton Holiday Parade.    March with us as we show the City of Boca – that we are the best group to be part of in Boca.    Our float will be bigger an better than last years!    Join us a we march down the streets of Boca.
URL:https://greatsunnation.com/event/boca-raton-holiday-parade-3/
LOCATION:Boca Raton Holiday Parade\, Federal Highway and SE 8th Street\, Boca Raton\, FL\, United States
ATTACH;FMTTYPE=image/jpeg:https://greatsunnation.com/wp-content/uploads/2018/01/IMG_1167.jpg
ORGANIZER;CN="Great Sun Nation":MAILTO:info@greatsunnation.com
END:VEVENT
BEGIN:VEVENT
DTSTART;TZID=UTC:20191115T150000
DTEND;TZID=UTC:20191117T110000
DTSTAMP:20260420T010906
CREATED:20190415T153039Z
LAST-MODIFIED:20190415T153039Z
UID:1138-1573830000-1573988400@greatsunnation.com
SUMMARY:Disney Fort Wilderness
DESCRIPTION:Join us a we travel to Fort Wilderness in Kissimmee\, FL to camp out in Mickey’s backyard.    Enjoy the beautiful campgrounds and many activities including bike riding\, horseback riding\, fishing\, boating\, or just hanging out by the pool.    If that is not enough\, you can take a boat to the Magic Kingdom.
URL:https://greatsunnation.com/event/disney-fort-wilderness-2/
LOCATION:Ft. Wilderness – Disney\, 4510 North Fort Wilderness Trail \, Lake Buena Vista\, 32830
ATTACH;FMTTYPE=image/jpeg:https://greatsunnation.com/wp-content/uploads/2016/04/Disneys_Fort_Wilderness_Resort_and_Campground_sign.jpg
ORGANIZER;CN="Great Sun Nation":MAILTO:info@greatsunnation.com
END:VEVENT
BEGIN:VEVENT
DTSTART;TZID=UTC:20191011T150000
DTEND;TZID=UTC:20191013T120000
DTSTAMP:20260420T010906
CREATED:20190923T130723Z
LAST-MODIFIED:20190923T130723Z
UID:1174-1570806000-1570968000@greatsunnation.com
SUMMARY:Fisheating Creek Outpost
DESCRIPTION:Fisheating Creek Outpost offers camping\, paddling\, fishing and hiking along one of the most pristine creeks in Florida. We’re based near the small town of Palmdale\, just west of Lake Okeechobee and north of the Everglades.
URL:https://greatsunnation.com/event/fisheating-creek-outpost/
LOCATION:Fisheating Creek Outpost\, 7555 US Hwy 27 North\, Palmdale\, FL\, 33944\, United States
ATTACH;FMTTYPE=image/png:https://greatsunnation.com/wp-content/uploads/2019/09/fisheatingcreek.png
ORGANIZER;CN="Great Sun Nation":MAILTO:info@greatsunnation.com
END:VEVENT
BEGIN:VEVENT
DTSTART;TZID=UTC:20190914T150000
DTEND;TZID=UTC:20190915T110000
DTSTAMP:20260420T010906
CREATED:20190415T152019Z
LAST-MODIFIED:20190810T165738Z
UID:1133-1568473200-1568545200@greatsunnation.com
SUMMARY:Sleep Over at the Museum of Discovery and Science
DESCRIPTION:Join us for a Night at the Museum.  We will be spending the night at the Ft. Lauderdale Museum of Science and Discovery.   There will be a pizza dinner followed by hands on classes and access to all of the museum’s attractions.
URL:https://greatsunnation.com/event/sleep-over-at-the-museum-of-discovery-and-science/
LOCATION:Museum of Discovery & Science\, 401 SW 2nd St\, Fort Lauderdale\, FL\, 33312\, United States
ATTACH;FMTTYPE=image/jpeg:https://greatsunnation.com/wp-content/uploads/2016/04/DSCmuseum-frontsign.jpg
ORGANIZER;CN="Great Sun Nation":MAILTO:info@greatsunnation.com
END:VEVENT
BEGIN:VEVENT
DTSTART;TZID=UTC:20190825T080000
DTEND;TZID=UTC:20190825T170000
DTSTAMP:20260420T010906
CREATED:20190415T151816Z
LAST-MODIFIED:20190415T151816Z
UID:1130-1566720000-1566752400@greatsunnation.com
SUMMARY:Beach Party - Kick off to 2019-2020 Camping Season
DESCRIPTION:
URL:https://greatsunnation.com/event/beach-party-kick-off-to-2019-2020-camping-season/
ATTACH;FMTTYPE=image/jpeg:https://greatsunnation.com/wp-content/uploads/2019/04/BeachParty11-300x245.jpg
ORGANIZER;CN="Great Sun Nation":MAILTO:info@greatsunnation.com
END:VEVENT
BEGIN:VEVENT
DTSTART;TZID=UTC:20190517T183000
DTEND;TZID=UTC:20190518T000000
DTSTAMP:20260420T010906
CREATED:20190415T151614Z
LAST-MODIFIED:20190415T151614Z
UID:1127-1558117800-1558137600@greatsunnation.com
SUMMARY:Xtreme Action Park
DESCRIPTION:Great Sun Nation members are invited to participate in an exclusive one night event at Xtreme Action Park in Fort Lauderdale.  Enjoy access to the fastest indoor Go Kart track and the newest attractions including Bowling\, XD Dark Ride\, Ropes Course\, Trampoline Park\, Roller Skating Rink and more!
URL:https://greatsunnation.com/event/xtreme-action-park-3/
LOCATION:Xtreme Action Park\, 5300 N Powerline Road\, Fort Lauderdale\, FL\, 33309\, United States
ATTACH;FMTTYPE=image/jpeg:https://greatsunnation.com/wp-content/uploads/2016/01/extreme.jpg
ORGANIZER;CN="Great Sun Nation":MAILTO:info@greatsunnation.com
END:VEVENT
BEGIN:VEVENT
DTSTART;TZID=UTC:20190426T120000
DTEND;TZID=UTC:20190428T130000
DTSTAMP:20260420T010906
CREATED:20180502T224018Z
LAST-MODIFIED:20190123T160636Z
UID:1074-1556280000-1556456400@greatsunnation.com
SUMMARY:Big Pine Key Fishing Lodge
DESCRIPTION:Our April 2018 campout to the Keys was almost cancelled as our traditional site\, Fiesta Key decided to make a policy change and no longer permit tent camping. So a replacement search was in order and it ended up being quite the task as effects from Hurricane Irma forced many campgrounds to be close for repairs. Exhausting most options we happen to stumble upon a location in Big Pine Key. Located just a short drive past Fiesta Key sits Big Pine Key Fishing Lodge\, which was actually very close to where Irma made landfall. We were fortunate to have been able to secure campsites right on the water and the views did not disappoint! Big Pine Key is also home to the National Key Deer refuge and the campground had a constant flow of Key Deer visitors. Like most trips to the Keys there were endless possibilities to keep everyone busy and this years activities included Stand up Paddle boarding\, kayaking\, fishing\, snorkeling and the always fun boat excursion to explore the open waters!! Our Saturday activities concluded with the campground hosting s’mores’ by the campfire which was a nice surprise. Another terrific trip to the Keys\, very much looking forward to the 2019 trip which is scheduled for April 26th – 28th\, so save the date as you don’t want to miss this one
URL:https://greatsunnation.com/event/keys-trip/
LOCATION:Big Pine Key Resort\, 33000 Overseas Hwy\, Big Pine Key\, FL\, 33043\, United States
ATTACH;FMTTYPE=image/png:https://greatsunnation.com/wp-content/uploads/2018/05/BigPineKey.png
ORGANIZER;CN="Great Sun Nation":MAILTO:info@greatsunnation.com
END:VEVENT
BEGIN:VEVENT
DTSTART;TZID=UTC:20190324T130000
DTEND;TZID=UTC:20190324T170000
DTSTAMP:20260420T010906
CREATED:20181217T195338Z
LAST-MODIFIED:20181217T195338Z
UID:1113-1553432400-1553446800@greatsunnation.com
SUMMARY:Spring Training Game – Astros vs Nationals
DESCRIPTION:Banana Boat Lawn seating (left field overlooking the game) – best outfield views in Spring Training!     NOTE: blankets or towels only for seating (no chairs)\nKids run the bases after the game!\nRate: $$$ Only $14.00 per Ticket $$$\nLocation: \n\n          FitTeam Ball Park of the Palm Beaches\n          5444 Haverhill Road\n          West Palm Beach\, FL 33407;\n          (561) 500-448\nhttp://www.ballparkpalmbeaches.com \n\nFTBPPB is the Spring Training home to the Houston Astros and Washington Nationals\, The 7\,700 capacity stadium features a wrap-around concourse\, inviting sightlines and unique fan areas to enhance the Spring Training experience.\n\n  \nONLINE REGISTRATION  \nREGISTRATION DEADLINE –Sunday March 10th  \nGreat Sun Nation Refund Policy: Refunds prior to deadline will incur a 15% processing fee or 100% credit towards a future event. No refunds or credit after registration deadline! \nFor questions concerning a la carte activities\, contact Ball Park of The Palm Beaches. For questions about the event\, call Catawba Chief Luke “Full Moon” Sherlock (561) 414-4604; luke.sherlock@gmail.com \nOnline Registration –  https://www.circlebridge.com/greatsunnation/login.php
URL:https://greatsunnation.com/event/spring-training-game-astros-vs-nationals/
LOCATION:FitTeam Ball Park of the Palm Beaches\, 5444 Haverhill Road\, West Palm Beach\, FL\, 33407\, United States
ATTACH;FMTTYPE=image/gif:https://greatsunnation.com/wp-content/uploads/2018/12/FITTEAMPB.gif
ORGANIZER;CN="Great Sun Nation":MAILTO:info@greatsunnation.com
END:VEVENT
BEGIN:VEVENT
DTSTART;TZID=UTC:20190314T090000
DTEND;TZID=UTC:20190317T120000
DTSTAMP:20260420T010906
CREATED:20181202T170439Z
LAST-MODIFIED:20181202T170439Z
UID:1108-1552554000-1552824000@greatsunnation.com
SUMMARY:2019 Sunshine State Pow-Wow
DESCRIPTION:AHO! YAHTAHEY! BIG HOW!   \nThe Canaveral Nation is excited to announce that our website is live for registration! We have a long\, fun-filled weekend planned for everyone on our home turf\, KARS Park in Merritt Island\, FL on March 14-17\, 2019. Animal exhibits and shows\, workshops\, ceremonies\, helicopter rides\, kayaking & fishing\, crafts and of course\, raffle prizes!!  \n Go to www.sunshinestatepowwow.com to sign up now for a discounted rate through Paypal. $35 per person through Jan. 1st.! Navigation through the site is easy\, just click on the registration page and make your choices. There will be sign up sheets for activities that will be on a first come\, first serve basis. We will notify everyone as those updates occur. \n We can’t wait to host our friends from far and wide! Nation Chiefs and everyone in between\, share this with anyone interested. Please reach out to me with any issues.  \n See you in March! 
URL:https://greatsunnation.com/event/2019-sunshine-state-pow-wow/
LOCATION:Kars Park\, Merritt Island\, FL\, 32953\, United States
ATTACH;FMTTYPE=image/jpeg:https://greatsunnation.com/wp-content/uploads/2018/12/kars_park.jpg
ORGANIZER;CN="Great Sun Nation":MAILTO:info@greatsunnation.com
END:VEVENT
BEGIN:VEVENT
DTSTART;TZID=UTC:20190308T150000
DTEND;TZID=UTC:20190310T110000
DTSTAMP:20260420T010906
CREATED:20180502T223940Z
LAST-MODIFIED:20180503T144436Z
UID:1072-1552057200-1552215600@greatsunnation.com
SUMMARY:Peace River
DESCRIPTION:Join the Great Sun Nation in our hunt for shark teeth on the Peace River in Arcadia\, FL. This is a primitive campground right on the banks of the Peace River. Bring your ATV and dirt bikes to this campout. The big event on Saturday is the canoe trip down the Peace River. There are many fossilized shark teeth to be found in the river.    Saturday night is capped of with the Broken Arrow ceremony. This is one campout not to be missed.
URL:https://greatsunnation.com/event/peace-river/
LOCATION:Peace River\, 2998 NW Highway 70\, Arcadia\, FL\, 34266\, United States
ATTACH;FMTTYPE=image/jpeg:https://greatsunnation.com/wp-content/uploads/2016/01/29552583_rxhx.jpg
ORGANIZER;CN="Great Sun Nation":MAILTO:info@greatsunnation.com
END:VEVENT
BEGIN:VEVENT
DTSTART;TZID=UTC:20190208T080000
DTEND;TZID=UTC:20190208T170000
DTSTAMP:20260420T010906
CREATED:20180502T223844Z
LAST-MODIFIED:20180503T130308Z
UID:1070-1549612800-1549645200@greatsunnation.com
SUMMARY:Forever Florida
DESCRIPTION:Great Sun Nation will have exclusive run of Camp Illahaw at Forever Florida. There is a “Low Ropes” course for all ages.   We’ll have archery\, critter racing and some other fun activities at the camp.   Saturday will feature a 2 hour Nature Ride.   Forever Florida will pick us up from camp and take us on cool open air Jeep busses to check out “untouched Florida”.   Campers 10 and up will have access to Zip Lines and Horseback Riding (a la carte).  \nEco-adventure park just a short walk from camp with the only zipline rollercoaster in the U.S.\, a quarter-mile-long racing zip line\, a 10-tower zipline tour\, and a 7-story leap that will help you find courage you didn’t know you had?\nRoam 4\,700 acres of Florida wilderness with nine different native ecosystems and endless opportunities to observe wildlife and learn about the natural world.
URL:https://greatsunnation.com/event/forever-florida/
LOCATION:Forever Florida\, 50 Broussard Rd\, Saint Cloud\, FL\, 34773  \, United States
ATTACH;FMTTYPE=image/png:https://greatsunnation.com/wp-content/uploads/2017/08/Forever-Florida.png
ORGANIZER;CN="Great Sun Nation":MAILTO:info@greatsunnation.com
END:VEVENT
BEGIN:VEVENT
DTSTART;TZID=UTC:20190111T160000
DTEND;TZID=UTC:20190113T120000
DTSTAMP:20260420T010906
CREATED:20180502T223809Z
LAST-MODIFIED:20181114T135737Z
UID:1068-1547222400-1547380800@greatsunnation.com
SUMMARY:Circle F 2019
DESCRIPTION:Join us for our biggest event of the year\, Circle F dude ranch scheduled for January 11th – 13th.   \nRegistration details are found here 2019 CIRCLE-F REGISTRATION FORM.
URL:https://greatsunnation.com/event/circle-f/
LOCATION:Circle F Dude Ranch\, 5301 Dude Ranch Rd \, Lake Wales\, 33898
ATTACH;FMTTYPE=image/png:https://greatsunnation.com/wp-content/uploads/2016/02/gsn_circlef-3.png
END:VEVENT
BEGIN:VEVENT
DTSTART;TZID=UTC:20181215T190000
DTEND;TZID=UTC:20181215T220000
DTSTAMP:20260420T010906
CREATED:20181113T010506Z
LAST-MODIFIED:20181113T010506Z
UID:1100-1544900400-1544911200@greatsunnation.com
SUMMARY:Florida Panthers Game
DESCRIPTION:Join the Great Sun Nation as the Florida Panthers take on the Toronto Maple Leafs on Saturday December 15\, 2018 at 7:00 pm.  Tickets are available in the 300 level for $24 and $68.  The $68 ticket includes access to Lord Stanley’s Loft and is all inclusive with food\, beer wine and soda.  In addition\, parking at the BB&T is included with your ticket. \nRegistration is via the Panthers GroupMatics ticketing website.  Use this link to purchase tickets: GSN Evening with the Panthers. \nIf you have any questions\, contact me @ rnaylorjr@gmail.com. \n 
URL:https://greatsunnation.com/event/florida-panthers-game/
LOCATION:BB&T Center\, 2555 NW 136th Ave \, Sunrise\, FL\,  33323\, United States
ATTACH;FMTTYPE=image/png:https://greatsunnation.com/wp-content/uploads/2018/11/panthers_game.png
ORGANIZER;CN="Great Sun Nation":MAILTO:info@greatsunnation.com
END:VEVENT
BEGIN:VEVENT
DTSTART;VALUE=DATE:20181205
DTEND;VALUE=DATE:20181206
DTSTAMP:20260420T010906
CREATED:20180502T223718Z
LAST-MODIFIED:20180503T130013Z
UID:1066-1543968000-1544054399@greatsunnation.com
SUMMARY:Boca Raton Holiday Parade
DESCRIPTION:The Great Sun Nation will be participating in the Boca Raton Holiday Parade.    March with us as we show the City of Boca – that we are the best group to be part of in Boca.    Our float will be bigger an better than last years!    Join us a we march down the streets of Boca.
URL:https://greatsunnation.com/event/boca-holiday-parade/
LOCATION:Boca Raton Holiday Parade\, Federal Highway and SE 8th Street\, Boca Raton\, FL\, United States
ATTACH;FMTTYPE=image/jpeg:https://greatsunnation.com/wp-content/uploads/2018/01/IMG_1167.jpg
END:VEVENT
BEGIN:VEVENT
DTSTART;TZID=UTC:20181109T080000
DTEND;TZID=UTC:20181111T170000
DTSTAMP:20260420T010906
CREATED:20180502T223636Z
LAST-MODIFIED:20180503T125842Z
UID:1064-1541750400-1541955600@greatsunnation.com
SUMMARY:Disney Fort Wilderness
DESCRIPTION:Join us a we travel to Fort Wilderness in Kissimmee\, FL to camp out in Mickey’s backyard.    Enjoy the beautiful campgrounds and many activities including bike riding\, horseback riding\, fishing\, boating\, or just hanging out by the pool.    If that is not enough\, you can take a boat to the Magic Kingdom.
URL:https://greatsunnation.com/event/disney-fort-wilderness/
LOCATION:Ft. Wilderness – Disney\, 4510 North Fort Wilderness Trail \, Lake Buena Vista\, 32830
ATTACH;FMTTYPE=image/jpeg:https://greatsunnation.com/wp-content/uploads/2016/04/Disneys_Fort_Wilderness_Resort_and_Campground_sign.jpg
END:VEVENT
BEGIN:VEVENT
DTSTART;TZID=UTC:20181012T080000
DTEND;TZID=UTC:20181014T170000
DTSTAMP:20260420T010906
CREATED:20180502T223545Z
LAST-MODIFIED:20180503T124637Z
UID:1061-1539331200-1539536400@greatsunnation.com
SUMMARY:Westgate River Ranch
DESCRIPTION:
URL:https://greatsunnation.com/event/westgate-river-ranch/
LOCATION:Westgate River Ranch
ATTACH;FMTTYPE=image/png:https://greatsunnation.com/wp-content/uploads/2018/05/2018-05-02_18-41-34.png
END:VEVENT
BEGIN:VEVENT
DTSTART;TZID=UTC:20180929T180000
DTEND;TZID=UTC:20180930T080000
DTSTAMP:20260420T010906
CREATED:20180315T011138Z
LAST-MODIFIED:20180906T012332Z
UID:1049-1538244000-1538294400@greatsunnation.com
SUMMARY:Frost Science Museum Sleepover
DESCRIPTION:We are excited to bring to you all a brand new experience. The Frost Science Museum that recently opened this year is allowing us to sleep over on September 29th.  The only caveat is that we have to sign up by March 15th. I know its early but if we don’t sign up now they will open it up to other groups and we have 250 spots to fill.  See the below link to sign up and details. Its an unbelievable experience and including is free tickets to come back at another time. Its $80 per person. \nSaturday\, September 29th \nRegistration Link\n http://tickets.frostscience.org/auxiliary/Reserve.aspx?p=26304\n \nFor additional details about the museum visit https://www.frostscience.org/\n \nHere is a SAMPLE schedule of their overnight program \nArrival (6:00 p.m. to 7:00 p.m.)\nDinner Served- Good Buffet\nSelect Exhibits Open\n7:30 p.m. Orientation\n8:00 p.m.\nHands-on Science Activities\nSelect Exhibits Open\n10:00 p.m. Planetarium Show\n10:40 p.m. Prep for Sleep\n11:30 p.m. Sleep\n6:00 a.m. Breakfast Served\n7:00 a.m.  Gift Store Opens\nDeparture (by 8:00 a.m.) \n 
URL:https://greatsunnation.com/event/frost-science-museum-sleepover/
ATTACH;FMTTYPE=image/jpeg:https://greatsunnation.com/wp-content/uploads/2018/03/2018-03-14_21-10-55.jpg
ORGANIZER;CN="Great Sun Nation":MAILTO:info@greatsunnation.com
END:VEVENT
BEGIN:VEVENT
DTSTART;TZID=UTC:20180819T140000
DTEND;TZID=UTC:20180819T180000
DTSTAMP:20260420T010906
CREATED:20180709T150503Z
LAST-MODIFIED:20180709T150503Z
UID:1088-1534687200-1534701600@greatsunnation.com
SUMMARY:Camping Season Kick Off - Beach Party!!
DESCRIPTION:
URL:https://greatsunnation.com/event/camping-season-kick-off-beach-party/
LOCATION:Spanish River Park\, 3001 N State Road A1A\, Boca Raton\, FL\, 33431\, United States
ATTACH;FMTTYPE=image/png:https://greatsunnation.com/wp-content/uploads/2018/07/Beach-Party.png
ORGANIZER;CN="Great Sun Nation":MAILTO:info@greatsunnation.com
END:VEVENT
BEGIN:VEVENT
DTSTART;TZID=UTC:20180518T190000
DTEND;TZID=UTC:20180519T000000
DTSTAMP:20260420T010906
CREATED:20180502T223322Z
LAST-MODIFIED:20180502T223322Z
UID:1055-1526670000-1526688000@greatsunnation.com
SUMMARY:Xtreme Action Park
DESCRIPTION:Great Sun Nation members are invited to participate in an exclusive one night event at Xtreme Action Park in Fort Lauderdale.  Enjoy access to the fastest indoor Go Kart track and the newest attractions including Bowling\, XD Dark Ride\, Ropes Course\, Trampoline Park\, Roller Skating Rink and more!
URL:https://greatsunnation.com/event/xtreme-action-park-2/
LOCATION:Xtreme Action Park\, 5300 N Powerline Road\, Fort Lauderdale\, FL\, 33309\, United States
ATTACH;FMTTYPE=image/jpeg:https://greatsunnation.com/wp-content/uploads/2016/01/extreme.jpg
ORGANIZER;CN="Great Sun Nation":MAILTO:info@greatsunnation.com
END:VEVENT
END:VCALENDAR