BEGIN:VCALENDAR
VERSION:2.0
PRODID:-//Great Sun Nation - ECPv6.15.20//NONSGML v1.0//EN
CALSCALE:GREGORIAN
METHOD:PUBLISH
X-WR-CALNAME:Great Sun Nation
X-ORIGINAL-URL:https://greatsunnation.com
X-WR-CALDESC:Events for Great Sun Nation
REFRESH-INTERVAL;VALUE=DURATION:PT1H
X-Robots-Tag:noindex
X-PUBLISHED-TTL:PT1H
BEGIN:VTIMEZONE
TZID:UTC
BEGIN:STANDARD
TZOFFSETFROM:+0000
TZOFFSETTO:+0000
TZNAME:UTC
DTSTART:20140101T000000
END:STANDARD
END:VTIMEZONE
BEGIN:VEVENT
DTSTART;VALUE=DATE:20160415
DTEND;VALUE=DATE:20160418
DTSTAMP:20260422T220136
CREATED:20160102T160909Z
LAST-MODIFIED:20160120T003406Z
UID:534-1460678400-1460937599@greatsunnation.com
SUMMARY:Fiesta Key Campout
DESCRIPTION:Appreciate the beauty of your surroundings at our Florida Keys RV resort! \nEnjoy staying in the heart of the Florida Keys at Fiesta Key RV Resort! Discover the lush greenery and tropical feel of our spacious 28-acre resort located on an island all our own. We are surrounded by incredible Gulf of Mexico ocean views\, have an on-site marina\, and plenty of areas where you can relax and enjoy the sunset. \nThere is also an on-site restaurant\, beach bar\, free WiFi hotspots\, spa\, pool and so much more. Popular nearby attractions include Long Key State Park\, the Dolphin Research Center and Bud ‘N’ Mary’s world famous fishing marina. \nClick Here to Register:
URL:https://greatsunnation.com/event/fiesta-key-campout/
LOCATION:Fiesta Key RV Resort\, 70001 Overseas Highway\, Long Key\, FL\, 33001\, United States
ATTACH;FMTTYPE=image/jpeg:https://greatsunnation.com/wp-content/uploads/2016/01/fiesta_key.jpg
ORGANIZER;CN="Great Sun Nation":MAILTO:info@greatsunnation.com
END:VEVENT
BEGIN:VEVENT
DTSTART;VALUE=DATE:20160311
DTEND;VALUE=DATE:20160314
DTSTAMP:20260422T220136
CREATED:20160102T162329Z
LAST-MODIFIED:20160105T012433Z
UID:542-1457654400-1457913599@greatsunnation.com
SUMMARY:Spring Campout at the Peace River
DESCRIPTION:Peace River Campground offers over 100 acres of wilderness camping for your enjoyment. You can make camp anywhere you like\, including many places right on the beautiful Peace River’s edge. During less busy times you can spend days out of site of other campers. \nWhile there are no utilities\, picnic tables or other campground amenities\, you are only a short walk to our hot showers\, swimming pool\, campground store and all the trappings of the “civilized” world. Because it is designed for use by the purist\, only tents\, including pop ups\, are allowed. No trailers\, motorhomes or generators to spoil the experience. If you are a ‘real’ tent camping\, wilderness person\, you will love it here. With the civilized world so close you can probably get the rest of your family to join you.
URL:https://greatsunnation.com/event/spring-campout-at-the-peace-river/
LOCATION:Peace River\, 2998 NW Highway 70\, Arcadia\, FL\, 34266\, United States
ATTACH;FMTTYPE=image/jpeg:https://greatsunnation.com/wp-content/uploads/2016/01/peace_river.jpg
ORGANIZER;CN="Great Sun Nation":MAILTO:info@greatsunnation.com
END:VEVENT
BEGIN:VEVENT
DTSTART;VALUE=DATE:20160219
DTEND;VALUE=DATE:20160222
DTSTAMP:20260422T220136
CREATED:20160104T010952Z
LAST-MODIFIED:20160120T010541Z
UID:610-1455840000-1456099199@greatsunnation.com
SUMMARY:Miami Zoo Campout
DESCRIPTION:Join us for a great weekend close to home. We will be camping at the beautiful Larry and Penny Thompson Campground. It is a first-class camping area adjacent to world-famous Zoo Miami. It has 270 acres of natural South Florida woodland\, bridle trails and hiking paths. The Campground has four large restroom/laundry facilities with hot showers\, a camp store\, picnic shelters\, a large freshwater lake with its own beach and water slide (open seasonally) (lifeguards on duty)\, a jogging and bike trail\, and more. \n\nClick here to download the pdf Miami Zoo Campout Flyer 2016
URL:https://greatsunnation.com/event/miami-zoo-campout/
LOCATION:Miami Zoo /Larry and Penny Thompson Park\, 12451 SW 184 Street\, Miami\, FL\, Miami\, FL\, United States
ATTACH;FMTTYPE=image/jpeg:https://greatsunnation.com/wp-content/uploads/2016/01/Zoo-Miami-Logo-200x200.jpg
ORGANIZER;CN="Stuart Borie":MAILTO:Info@greatsunnation.com
END:VEVENT
BEGIN:VEVENT
DTSTART;VALUE=DATE:20160115
DTEND;VALUE=DATE:20160118
DTSTAMP:20260422T220136
CREATED:20151019T020628Z
LAST-MODIFIED:20160105T012339Z
UID:511-1452816000-1453075199@greatsunnation.com
SUMMARY:Circle F Dude Ranch
DESCRIPTION:Family Weekend guests will enjoy our rustic\, bunkhouse-style cabins\, located around our 500 acres of lush live oaks\, rolling hills and lakeside. Each cabin contains six bunk beds and can accommodate up to 12 people. Our classic bunkhouse cabins feature tiled floors\, ceiling fans\, large open-air screened windows\, and air-conditioning*. Each bunkhouse cabin includes its own bathroom with a shower\, sink\, and toilet. All beds are twin sized with high-density foam mattresses. Heaters are also available. Included with each family weekend package\, are six meals and two-night stay at the ranch along with use of property. \nclick here to register:
URL:https://greatsunnation.com/event/circle-f-dude-ranch/
LOCATION:Circle F Dude Ranch\, 5301 Dude Ranch Rd \, Lake Wales\, 33898
ATTACH;FMTTYPE=image/jpeg:https://greatsunnation.com/wp-content/uploads/2015/10/smiles_alpine_06-e1379624742963-675x321.jpg
ORGANIZER;CN="Great Sun Nation":MAILTO:info@greatsunnation.com
END:VEVENT
BEGIN:VEVENT
DTSTART;VALUE=DATE:20151113
DTEND;VALUE=DATE:20151116
DTSTAMP:20260422T220136
CREATED:20151019T020116Z
LAST-MODIFIED:20151019T021557Z
UID:509-1447372800-1447631999@greatsunnation.com
SUMMARY:Ft. Wilderness
DESCRIPTION:Camp amid the magic of the great outdoors. Disney’s Fort Wilderness Resort & Campground evokes the timeless beauty of the American frontier\, with deer\, rabbits\, ducks and armadillos roaming the Resort’s 750 acres of pine and cypress forest. Discover charming woodland trails\, a pristine beach\, spectacular pool areas and rip-roarin’ entertainment at this picturesque backcountry retreat.
URL:https://greatsunnation.com/event/ft-wilderness/
LOCATION:Ft. Wilderness – Disney\, 4510 North Fort Wilderness Trail \, Lake Buena Vista\, 32830
ATTACH;FMTTYPE=image/jpeg:https://greatsunnation.com/wp-content/uploads/2015/10/campsites-at-fort-wilderness-resort-00-full.jpg
ORGANIZER;CN="Great Sun Nation":MAILTO:info@greatsunnation.com
END:VEVENT
BEGIN:VEVENT
DTSTART;VALUE=DATE:20151023
DTEND;VALUE=DATE:20151026
DTSTAMP:20260422T220136
CREATED:20151019T011933Z
LAST-MODIFIED:20151019T023454Z
UID:491-1445558400-1445817599@greatsunnation.com
SUMMARY:Tomoka Campout with Timucuan Nation
DESCRIPTION:Native Americans once dwelled here\, living off fish-filled lagoons. Today\, these waters are popular for canoeing\, boating\, and fishing. The park protects a variety of wildlife habitats and endangered species\, such as the West Indian manatee. Tomoka is a bird-watcher’s paradise\, with over 160 species sighted\, especially during the spring and fall migrations. Visitors can stroll a one-half mile nature trail through a hardwood hammock that was once an indigo field for an 18th century British landowner. A boat ramp gives boaters and canoeists access to the river. The Park Store offers snacks\, camping supplies\, and canoe rentals. \nClick here to register
URL:https://greatsunnation.com/event/tomoka-campout-with-timucuan-nation/
LOCATION:Tomaka State Park\, Ormond Beach\, FL\, 2099 North Beach Street \, Ormond Beach\, 32174 
ATTACH;FMTTYPE=image/jpeg:https://greatsunnation.com/wp-content/uploads/2015/10/tomoka_park.jpeg
ORGANIZER;CN="Great Sun Nation":MAILTO:info@greatsunnation.com
END:VEVENT
END:VCALENDAR