BEGIN:VCALENDAR
VERSION:2.0
PRODID:-//Great Sun Nation - ECPv6.15.20//NONSGML v1.0//EN
CALSCALE:GREGORIAN
METHOD:PUBLISH
X-ORIGINAL-URL:https://greatsunnation.com
X-WR-CALDESC:Events for Great Sun Nation
REFRESH-INTERVAL;VALUE=DURATION:PT1H
X-Robots-Tag:noindex
X-PUBLISHED-TTL:PT1H
BEGIN:VTIMEZONE
TZID:UTC
BEGIN:STANDARD
TZOFFSETFROM:+0000
TZOFFSETTO:+0000
TZNAME:UTC
DTSTART:20240101T000000
END:STANDARD
END:VTIMEZONE
BEGIN:VEVENT
DTSTART;TZID=UTC:20251017T140000
DTEND;TZID=UTC:20251019T110000
DTSTAMP:20260420T032853
CREATED:20250809T195218Z
LAST-MODIFIED:20250909T205725Z
UID:1695-1760709600-1760871600@greatsunnation.com
SUMMARY:Lion Country Safari KOA Campout
DESCRIPTION:Join us for the first campout of the season!  Enjoy a weekend of fun and wake up to roaring lions.  Tickets to Lion Country Safari for Saturday are included! \n\nCampsites w/ Water & Electric\nScreened Pavilion for Kitchen\nBathhouse\nSwimming Pool\nBikes & Scooters\nBasketball Court\nVolleyball Court\nPlayground\nFirepits Allowed (Duraflames Only)\n\nRegister online at: https://www.circlebridge.com/greatsunnation/login.php \nRegistration deadline is Wednesday\, October 8th \nFor more information on the campground go to: https://koa.com/campgrounds/west-palm-beach/
URL:https://greatsunnation.com/event/lion-country-safari-koa-campout/
LOCATION:Lion Country Safari\, 2003 Lion Country Safari Rd\, Loxahatchee\, FL\, 33470\, United States
ORGANIZER;CN="Great Sun Nation":MAILTO:info@greatsunnation.com
END:VEVENT
BEGIN:VEVENT
DTSTART;TZID=UTC:20251114T160000
DTEND;TZID=UTC:20251116T110000
DTSTAMP:20260420T032853
CREATED:20250809T195359Z
LAST-MODIFIED:20250809T195359Z
UID:1698-1763136000-1763290800@greatsunnation.com
SUMMARY:River Ranch Campout
DESCRIPTION:Details TBD
URL:https://greatsunnation.com/event/river-ranch-campout-2/
LOCATION:Westgate River Ranch
ORGANIZER;CN="Great Sun Nation":MAILTO:info@greatsunnation.com
END:VEVENT
BEGIN:VEVENT
DTSTART;TZID=UTC:20260109T150000
DTEND;TZID=UTC:20260111T110000
DTSTAMP:20260420T032853
CREATED:20250809T195529Z
LAST-MODIFIED:20251124T221536Z
UID:1701-1767970800-1768129200@greatsunnation.com
SUMMARY:Circle F Dude Ranch Campout
DESCRIPTION:2026 CIRCLE-F REGISTRATION FORM \nSee the attached flyer for event details.  Registration forms should be completed and mailed in with payment via check.  If you have NOT already paid annual dues this year\, please add $60 for national dues and $25 for Great Sun Nation dues\, and make note of it on the registration form. \nCamping fees include the following: \n2 nights accommodations in a six bunkbed\, heated\, five-star cabin! 4 meals (breakfast\, lunch and dinner on Saturday\, and breakfast on Sunday.) Talent show on Friday night\, rock wall with zip line\, fishing tournament\, bow & arrow range\, BB gun range\, Pinewood Derby race\, egg toss\, dodge ball\, canoes and kayaks on the lake\, fire ceremony and fireworks show\, and optional horseback trail rides! Plus\, plenty of firewood supplied!
URL:https://greatsunnation.com/event/circle-f-dude-ranch-campout-2/
LOCATION:Circle F Dude Ranch\, 5301 Dude Ranch Rd \, Lake Wales\, 33898
ORGANIZER;CN="Great Sun Nation":MAILTO:info@greatsunnation.com
END:VEVENT
BEGIN:VEVENT
DTSTART;TZID=UTC:20260205T160000
DTEND;TZID=UTC:20260208T110000
DTSTAMP:20260420T032853
CREATED:20250809T200020Z
LAST-MODIFIED:20250809T200020Z
UID:1708-1770307200-1770548400@greatsunnation.com
SUMMARY:State Pow Wow
DESCRIPTION:Details TBD
URL:https://greatsunnation.com/event/state-pow-wow/
LOCATION:Camp Geneva\, 36540 Via Marcia\, Fruitland Park\, FL\, 34731\, United States
END:VEVENT
BEGIN:VEVENT
DTSTART;TZID=UTC:20260306T150000
DTEND;TZID=UTC:20260308T110000
DTSTAMP:20260420T032853
CREATED:20250809T200144Z
LAST-MODIFIED:20260216T232056Z
UID:1711-1772809200-1772967600@greatsunnation.com
SUMMARY:Fort Wilderness Campout
DESCRIPTION:Event Details:\n\nRegistration link: https://nationallonghouse.org/content.aspx?page_id=4002&club_id=149974&item_id=2888936&eml=1&actr=3\n\nRegistering through ClubExpress will require you have an account in the system and paid annual dues.\n\n\nCost is $320 per family (NOT per person).\n\n\nRegistration is limited to 22 total families on a first available basis.\n\n\nCamping will be on a dedicated loop with adjacent campsites.\n\n\nThere will be (2) families to each campsite and sites are limited to two tents (one for each family).\n\n\nCampsites are paved and equipped with electrical hookups\, water\, and a picnic table.  Bathrooms with showers are located in the loop area.\n\n\nFort Wilderness amenities include multiple restaurants\, swimming pool\, golf carts available for rent\, and many other activities.  See details on their website HERE.\n\n\nTheme park tickets are NOT included in the registration fee.\n\n\nThere will not be any organized Nation activities on Saturday\, so you are free to spend the day as you wish or coordinate with other tribe families.\n\n\nGroup meals will be planned once registration is finalized\, and shared grocery costs will be settled separately from registration.
URL:https://greatsunnation.com/event/fort-wilderness-campout-2/
LOCATION:Ft. Wilderness – Disney\, 4510 North Fort Wilderness Trail \, Lake Buena Vista\, 32830
ORGANIZER;CN="Great Sun Nation":MAILTO:info@greatsunnation.com
END:VEVENT
BEGIN:VEVENT
DTSTART;TZID=UTC:20260410T150000
DTEND;TZID=UTC:20260412T110000
DTSTAMP:20260420T032853
CREATED:20250809T200231Z
LAST-MODIFIED:20260311T010316Z
UID:1714-1775833200-1775991600@greatsunnation.com
SUMMARY:Retreats by the Lake Campout
DESCRIPTION:Join us at the lake for our last campout of the season!\nEnjoy air-conditioned bunk cabins and a weekend of fun outdoor activities for all! \n– Kayaking\n– Fishing\n– Wave Runner / Tubing\n– Beach Volleyball\n– Swimming Pool\n– Bikes & Scooters\n– Campfires\n– Pizza Night\n– And More! \nRegister via ClubExpress here: https://nationallonghouse.org/content.aspx?page_id=4002&club_id=149974&item_id=2916395
URL:https://greatsunnation.com/event/retreats-by-the-lake-campout-3/
LOCATION:Retreats by the Lake\, 2819 Tiger Lake Road\, Lake Wales\, FL\, 33898\, United States
ORGANIZER;CN="Great Sun Nation":MAILTO:info@greatsunnation.com
END:VEVENT
END:VCALENDAR