BEGIN:VCALENDAR
VERSION:2.0
PRODID:-//Great Sun Nation - ECPv6.15.20//NONSGML v1.0//EN
CALSCALE:GREGORIAN
METHOD:PUBLISH
X-ORIGINAL-URL:https://greatsunnation.com
X-WR-CALDESC:Events for Great Sun Nation
REFRESH-INTERVAL;VALUE=DURATION:PT1H
X-Robots-Tag:noindex
X-PUBLISHED-TTL:PT1H
BEGIN:VTIMEZONE
TZID:UTC
BEGIN:STANDARD
TZOFFSETFROM:+0000
TZOFFSETTO:+0000
TZNAME:UTC
DTSTART:20240101T000000
END:STANDARD
END:VTIMEZONE
BEGIN:VEVENT
DTSTART;TZID=UTC:20251114T160000
DTEND;TZID=UTC:20251116T110000
DTSTAMP:20260419T193508
CREATED:20250809T195359Z
LAST-MODIFIED:20250809T195359Z
UID:1698-1763136000-1763290800@greatsunnation.com
SUMMARY:River Ranch Campout
DESCRIPTION:Details TBD
URL:https://greatsunnation.com/event/river-ranch-campout-2/
LOCATION:Westgate River Ranch
ORGANIZER;CN="Great Sun Nation":MAILTO:info@greatsunnation.com
END:VEVENT
END:VCALENDAR